BEGIN:VCALENDAR
VERSION:2.0
PRODID:Carson City Calendar Creator
METHOD:PUBLISH
BEGIN:VEVENT
DTSTAMP:20240731T155937
DTSTART:20241005T100000
DTEND:20241005T120000
SUMMARY:Volunteer Opportunity - Voltaire Canyon Clean Up
DESCRIPTION:Join the Carson City Parks, Recreation &amp; Open Space Department for a volunteer day at Voltaire Canyon! We will be meeting on Saturday October 5th from 10:00am to 12:00pm and will be focusing on cleaning up the vast amounts of trash out there. Tools, trash bags, and gloves will be provided.<div></div><div>The site we will be focusing on is located at 1188 Voltaire Canyon Road, Carson City, NV 89703. Voltaire Canyon Road is a dirt road with a few dips and bumps; however, it can be driven by most vehicles.<div></div><div>Please be sure to wear close toed shoes, dress appropriately for the weather, and bring plenty of water.</div></div><p><a href="https://anc.apm.activecommunities.com/ccpr/activity/search/detail/8876?onlineSiteId=0&amp;locale=en-US&amp;from_original_cui=true"><a href="https://anc.apm.activecommunities.com/ccpr/activity/search/detail/9054?onlineSiteId=0&amp;locale=en-US&amp;from_original_cui=true">Activity detail | City of Carson City Online Services (activecommunities.com)</a></a></p>
X-ALT-DESC;FMTTYPE=text/html:Join the Carson City Parks, Recreation &amp; Open Space Department for a volunteer day at Voltaire Canyon! We will be meeting on Saturday October 5th from 10:00am to 12:00pm and will be focusing on cleaning up the vast amounts of trash out there. Tools, trash bags, and gloves will be provided.<div></div><div>The site we will be focusing on is located at 1188 Voltaire Canyon Road, Carson City, NV 89703. Voltaire Canyon Road is a dirt road with a few dips and bumps; however, it can be driven by most vehicles.<div></div><div>Please be sure to wear close toed shoes, dress appropriately for the weather, and bring plenty of water.</div></div><p><a href="https://anc.apm.activecommunities.com/ccpr/activity/search/detail/8876?onlineSiteId=0&amp;locale=en-US&amp;from_original_cui=true"><a href="https://anc.apm.activecommunities.com/ccpr/activity/search/detail/9054?onlineSiteId=0&amp;locale=en-US&amp;from_original_cui=true">Activity detail | City of Carson City Online Services (activecommunities.com)</a></a></p>
LOCATION:
CLASS:PUBLIC
END:VEVENT
END:VCALENDAR
