BEGIN:VCALENDAR
VERSION:2.0
PRODID:Carson City Calendar Creator
METHOD:PUBLISH
BEGIN:VEVENT
DTSTAMP:20240905T131003
DTSTART:20240903T170000
DTEND:20240903T235900
SUMMARY:Planning Commission Workshop - POSTPONED to September 16th
DESCRIPTION:&nbsp;
X-ALT-DESC;FMTTYPE=text/html:&nbsp;
LOCATION:Community Center\, Robert "Bob" Crowell Board Room\, 851 East William Street Carson City\, Nevada 89701
CLASS:PUBLIC
END:VEVENT
END:VCALENDAR
