BEGIN:VCALENDAR
VERSION:2.0
PRODID:Carson City Calendar Creator
METHOD:PUBLISH
BEGIN:VEVENT
DTSTAMP:20240814T091458
DTSTART:20240819T133000
DTEND:20240819T143000
SUMMARY:Debt Management Commission
DESCRIPTION:<a href="https://www.carsoncity.gov/government/city-meetings">Meeting Information | Carson City</a>
X-ALT-DESC;FMTTYPE=text/html:<a href="https://www.carsoncity.gov/government/city-meetings">Meeting Information | Carson City</a>
LOCATION:Community Center\, Robert "Bob" Crowell Board Room\, 851 East William Street Carson City\, Nevada 89701
CLASS:PUBLIC
END:VEVENT
END:VCALENDAR
