BEGIN:VCALENDAR
VERSION:2.0
PRODID:Carson City Calendar Creator
METHOD:PUBLISH
BEGIN:VEVENT
DTSTAMP:20240816T082611
DTSTART:20240914T090000
DTEND:20240914T110000
SUMMARY:Source Water Assessment Day
DESCRIPTION:<p>Join us for Carson City's 3rd Annual Source Water Assessment Day to learn about YOUR local drinking water. Located at the Kings Canyon Trailhead, this event is completely free and fun for all ages! From 9:00am-11:00am we will:</p><ul>    <li>Enjoy a short 200-yard walk to the North Kings Canyon water intake</li>    <li>Watch River Wranglers demonstrate water quality sampling</li>    <li>Discover how our water is treated and delivered</li>    <li>Have an optional guided hike to the Kings Canyon Waterfall!</li></ul><p>With hands-on activities, fun booths, and watershed games, you won't want to miss this!&nbsp;</p>
X-ALT-DESC;FMTTYPE=text/html:<p>Join us for Carson City's 3rd Annual Source Water Assessment Day to learn about YOUR local drinking water. Located at the Kings Canyon Trailhead, this event is completely free and fun for all ages! From 9:00am-11:00am we will:</p><ul>    <li>Enjoy a short 200-yard walk to the North Kings Canyon water intake</li>    <li>Watch River Wranglers demonstrate water quality sampling</li>    <li>Discover how our water is treated and delivered</li>    <li>Have an optional guided hike to the Kings Canyon Waterfall!</li></ul><p>With hands-on activities, fun booths, and watershed games, you won't want to miss this!&nbsp;</p>
LOCATION:
CLASS:PUBLIC
END:VEVENT
END:VCALENDAR
