BEGIN:VCALENDAR
VERSION:2.0
PRODID:Carson City Calendar Creator
METHOD:PUBLISH
BEGIN:VEVENT
DTSTAMP:20240819T092821
DTSTART:20240921T100000
DTEND:20240921T143000
SUMMARY:Volunteer Opportunity - Bob Boldrick Theater Block Party
DESCRIPTION:<div x11i5rnm="" xat24cr="" x1mh8g0r="" x1vvkbs="" x126k92a"=""><div dir="auto">Volunteers needed! Carson City is in search of volunteers to join us for the Bob Boldrick Theater 50th Anniversary Block Party &amp; Stage Show on Saturday September 21st.</div></div><div xat24cr="" x1mh8g0r="" x1vvkbs="" xtlvy1s="" x126k92a"=""><div dir="auto">Volunteers would help with event set up, helping with super fun booth activities, and/or cleaning up after the event. Volunteers can work in shifts, or work through the entirety of the event.</div><div dir="auto">&nbsp;</div><div dir="auto">If interested in helping out at this special community event, please reach out to volunteer@carsoncity.gov!&nbsp;</div></div>
X-ALT-DESC;FMTTYPE=text/html:<div x11i5rnm="" xat24cr="" x1mh8g0r="" x1vvkbs="" x126k92a"=""><div dir="auto">Volunteers needed! Carson City is in search of volunteers to join us for the Bob Boldrick Theater 50th Anniversary Block Party &amp; Stage Show on Saturday September 21st.</div></div><div xat24cr="" x1mh8g0r="" x1vvkbs="" xtlvy1s="" x126k92a"=""><div dir="auto">Volunteers would help with event set up, helping with super fun booth activities, and/or cleaning up after the event. Volunteers can work in shifts, or work through the entirety of the event.</div><div dir="auto">&nbsp;</div><div dir="auto">If interested in helping out at this special community event, please reach out to volunteer@carsoncity.gov!&nbsp;</div></div>
LOCATION:Community Center\, Bob Boldrick Theater\, 851 East William Street Carson City\, Nevada 89701-3123
CLASS:PUBLIC
END:VEVENT
END:VCALENDAR
