BEGIN:VCALENDAR
VERSION:2.0
PRODID:Carson City Calendar Creator
METHOD:PUBLISH
BEGIN:VEVENT
DTSTAMP:20240819T093614
DTSTART:20241024T120000
DTEND:20241024T210000
SUMMARY:Volunteer Opportunity - Boonanza
DESCRIPTION:<p _rdeditor_exists="1">Volunteers needed to help with our annual Boonanza event! This event is Northern Nevada's largest trick-or-treat event and attracts up to 2500 kids and their families. The Carson City Parks, Recreation &amp; Open Space Department seeks volunteers to help businesses and groups find their assigned booth locations, help pick up trash throughout the event, and/or help groups take down their booths at the end of the event. Volunteers can work in shifts or work throughout the entirety of the event.</p><p _rdeditor_exists="1">If interested in volunteering for this event, please reach out to volunteer@carsoncity.gov!</p>
X-ALT-DESC;FMTTYPE=text/html:<p _rdeditor_exists="1">Volunteers needed to help with our annual Boonanza event! This event is Northern Nevada's largest trick-or-treat event and attracts up to 2500 kids and their families. The Carson City Parks, Recreation &amp; Open Space Department seeks volunteers to help businesses and groups find their assigned booth locations, help pick up trash throughout the event, and/or help groups take down their booths at the end of the event. Volunteers can work in shifts or work throughout the entirety of the event.</p><p _rdeditor_exists="1">If interested in volunteering for this event, please reach out to volunteer@carsoncity.gov!</p>
LOCATION:Mills Park\, 1111 E. Williams Street Carson City\, Nevada 89701
CLASS:PUBLIC
END:VEVENT
END:VCALENDAR
