BEGIN:VCALENDAR
VERSION:2.0
PRODID:Carson City Calendar Creator
METHOD:PUBLISH
BEGIN:VEVENT
DTSTAMP:20240924T094817
DTSTART:20240930T173000
DTEND:20240930T190000
SUMMARY:Carson City Road Funding Educational Presentation
DESCRIPTION:<p align="center"><b>&nbsp;</b></p><p align="center"><b>&nbsp;</b></p><p align="center"><b><span style="color: rgb(0, 0, 0);">Carson City Road Funding Educational Presentation</span></b></p><p><span style="color: rgb(0, 0, 0);">Carson City, NV - Carson City Public Works and the Transportation Division will provide an educational presentation and summary related to the recently completed Preserve Carson City Roads report and the status of measures related to funding for local roads in Carson City. </span></p><p align="center"><span style="color: rgb(0, 0, 0);">Monday, September 30, 2024, from 5:30 p.m. – 7:00 p.m. at the Carson City Community Center, Robert Crowell Board Room, located at 851 E. William Street in Carson City.</span></p><p><span style="color: rgb(0, 0, 0);">We invite you to attend this presentation and moderated question and answer session related to funding measures being presented to voters in Carson City. &nbsp;The presentation will include details about the funding measures approved by the Board of Supervisors for placement on the November 2024 election ballot. It will also include information related to project selection and implementation as well as a summary of next steps pending the results of the November 2024 election. &nbsp;</span></p><p><span style="color: rgb(0, 0, 0);">Carson City values your feedback about funding options for the preservation and repair of your streets and roads, and strongly encourages attendance. </span></p><p><span style="color: rgb(0, 0, 0);">Questions? Visit <a href="http://www.preservecarsoncityroads.com/">preservecarsoncityroads.com</a> for the latest project information. Contact Chris Martinovich at CMartinovich@carsoncity.gov or (775) 283-7367.</span> </p>
X-ALT-DESC;FMTTYPE=text/html:<p align="center"><b>&nbsp;</b></p><p align="center"><b>&nbsp;</b></p><p align="center"><b><span style="color: rgb(0, 0, 0);">Carson City Road Funding Educational Presentation</span></b></p><p><span style="color: rgb(0, 0, 0);">Carson City, NV - Carson City Public Works and the Transportation Division will provide an educational presentation and summary related to the recently completed Preserve Carson City Roads report and the status of measures related to funding for local roads in Carson City. </span></p><p align="center"><span style="color: rgb(0, 0, 0);">Monday, September 30, 2024, from 5:30 p.m. – 7:00 p.m. at the Carson City Community Center, Robert Crowell Board Room, located at 851 E. William Street in Carson City.</span></p><p><span style="color: rgb(0, 0, 0);">We invite you to attend this presentation and moderated question and answer session related to funding measures being presented to voters in Carson City. &nbsp;The presentation will include details about the funding measures approved by the Board of Supervisors for placement on the November 2024 election ballot. It will also include information related to project selection and implementation as well as a summary of next steps pending the results of the November 2024 election. &nbsp;</span></p><p><span style="color: rgb(0, 0, 0);">Carson City values your feedback about funding options for the preservation and repair of your streets and roads, and strongly encourages attendance. </span></p><p><span style="color: rgb(0, 0, 0);">Questions? Visit <a href="http://www.preservecarsoncityroads.com/">preservecarsoncityroads.com</a> for the latest project information. Contact Chris Martinovich at CMartinovich@carsoncity.gov or (775) 283-7367.</span> </p>
LOCATION:Community Center\, Robert "Bob" Crowell Board Room\, 851 East William Street Carson City\, Nevada 89701
CLASS:PUBLIC
END:VEVENT
END:VCALENDAR
