BEGIN:VCALENDAR
VERSION:2.0
PRODID:Carson City Calendar Creator
METHOD:PUBLISH
BEGIN:VEVENT
DTSTAMP:20241015T085107
DTSTART:20241016T173000
DTEND:20241016T193000
SUMMARY:Airport Authority Meeting
DESCRIPTION:<a href="https://flycarsoncity.com/wp-content/uploads/2024/10/Agenda.pdf">Microsoft Word - 2024 10 16 Agenda Draft (flycarsoncity.com)</a>
X-ALT-DESC;FMTTYPE=text/html:<a href="https://flycarsoncity.com/wp-content/uploads/2024/10/Agenda.pdf">Microsoft Word - 2024 10 16 Agenda Draft (flycarsoncity.com)</a>
LOCATION:Community Center\, Robert "Bob" Crowell Board Room\, 851 East William Street Carson City\, Nevada 89701
CLASS:PUBLIC
END:VEVENT
END:VCALENDAR
