BEGIN:VCALENDAR
VERSION:2.0
PRODID:Carson City Calendar Creator
METHOD:PUBLISH
BEGIN:VEVENT
DTSTAMP:20241024T112403
DTSTART:20241102T100000
DTEND:20241102T120000
SUMMARY:Volunteer Opportunity - Planting Event
DESCRIPTION:<div x11i5rnm="" xat24cr="" x1mh8g0r="" x1vvkbs="" x126k92a"=""><div dir="auto">We are getting ready to host one of the last volunteer opportunities of the year! Join the Carson City Parks, Recreation &amp; Open Space Department for a fun planting event on Saturday November 2nd from 10:00am-12:00pm at the Empire Ranch Trailhead, where we will be planting almost 200 native pollinator plants!</div></div><div xat24cr="" x1mh8g0r="" x1vvkbs="" xtlvy1s="" x126k92a"=""><div dir="auto">No registration required. Tools and gloves will be provided, just dress for the weather! If you have further questions, please reach out to volunteer@carsoncity.gov.&nbsp;</div></div><div xat24cr="" x1mh8g0r="" x1vvkbs="" xtlvy1s="" x126k92a"=""><div dir="auto">We hope to see you there!</div></div><p>&nbsp;</p><p><br /></p>
X-ALT-DESC;FMTTYPE=text/html:<div x11i5rnm="" xat24cr="" x1mh8g0r="" x1vvkbs="" x126k92a"=""><div dir="auto">We are getting ready to host one of the last volunteer opportunities of the year! Join the Carson City Parks, Recreation &amp; Open Space Department for a fun planting event on Saturday November 2nd from 10:00am-12:00pm at the Empire Ranch Trailhead, where we will be planting almost 200 native pollinator plants!</div></div><div xat24cr="" x1mh8g0r="" x1vvkbs="" xtlvy1s="" x126k92a"=""><div dir="auto">No registration required. Tools and gloves will be provided, just dress for the weather! If you have further questions, please reach out to volunteer@carsoncity.gov.&nbsp;</div></div><div xat24cr="" x1mh8g0r="" x1vvkbs="" xtlvy1s="" x126k92a"=""><div dir="auto">We hope to see you there!</div></div><p>&nbsp;</p><p><br /></p>
LOCATION:
CLASS:PUBLIC
END:VEVENT
END:VCALENDAR
