BEGIN:VCALENDAR
VERSION:2.0
PRODID:Carson City Calendar Creator
METHOD:PUBLISH
BEGIN:VEVENT
DTSTAMP:20241114T071943
DTSTART:20241121T173000
DTEND:20241121T183000
SUMMARY:Tobacco Engagement Night (Spanish)
DESCRIPTION:<div>&nbsp; Carson City Juvenile Services will be hosting two events, on&nbsp;<i><u>Tobacco Parent Engagement Night&nbsp;</u></i>in partnership with Carson City Health and Human Services.&nbsp;</div><div><p>&nbsp;</p><p>The English Version of this month's Parent Engagement Night will be on&nbsp;<b>Wednesday, November 20th, from 5:30 pm-6:30 pm, at the Carson City Juvenile Services, located at 740 S. Saliman Road.</b>&nbsp;&nbsp;</p></div><div><p>The Spanish Version of this month's Parent Engagement Night will be on&nbsp;<b>Thursday, November 21st, from 5:30 pm-6:30 pm, at the Carson City Juvenile Services, located at 740 S. Saliman Road.</b>&nbsp;&nbsp;</p></div><p>For more information about these events, contact Mayela Quintanilla at 775-283-7642 or email mquintanilla@carsoncity.gov.</p><p>&nbsp;_____________________________________________________________________________________________________________________________________________________________</p><div>&nbsp;Servicios Juveniles de Carson City organizará dos eventos,&nbsp;<u>Noche de Participación de Los Padres hablando de el uso de Tabaco</u>&nbsp;en asociación con el Departamento de Salud y Servicios Humanos.</div><div id="x_Signature"><p>La versión en inglés de la Noche de participación de padres de este mes será&nbsp;<b>el Miércoles 20 de Noviembre, de 5:30 pm - 6:30 pm, en Carson City Juvenile Services, ubicado en 740 S. Saliman Road.&nbsp;&nbsp;</b></p><p>La versión en español de la Noche de participación de padres de este mes será&nbsp;<b>el Jueves 21 de Noviembre, de 5:30 pm - 6:30 pm, en Carson City Juvenile Services, ubicado en 740 S. Saliman Road.&nbsp;&nbsp;</b></p><p>Para obtener más información sobre estos eventos, comuníquese con Mayela Quintanilla al 775-283-7642 o envíe un correo electrónico a&nbsp;<a title="mailto:mquintanilla@carsoncity.gov" data-linkindex="0" id="OWA7448481a-bc5d-bd40-55ab-7ba3e3e4ca51" href="mailto:&#109;&#113;&#117;&#105;&#110;&#116;&#97;&#110;&#105;&#108;&#108;&#97;&#64;&#99;&#97;&#114;&#115;&#111;&#110;&#99;&#105;&#116;&#121;&#46;&#103;&#111;&#118;">mquintanilla@carsoncity.gov</a>.</p><p>Este evento es gratuito y abierto a toda la comunidad!</p><p>&nbsp; ¡Gracias!</p></div>
X-ALT-DESC;FMTTYPE=text/html:<div>&nbsp; Carson City Juvenile Services will be hosting two events, on&nbsp;<i><u>Tobacco Parent Engagement Night&nbsp;</u></i>in partnership with Carson City Health and Human Services.&nbsp;</div><div><p>&nbsp;</p><p>The English Version of this month's Parent Engagement Night will be on&nbsp;<b>Wednesday, November 20th, from 5:30 pm-6:30 pm, at the Carson City Juvenile Services, located at 740 S. Saliman Road.</b>&nbsp;&nbsp;</p></div><div><p>The Spanish Version of this month's Parent Engagement Night will be on&nbsp;<b>Thursday, November 21st, from 5:30 pm-6:30 pm, at the Carson City Juvenile Services, located at 740 S. Saliman Road.</b>&nbsp;&nbsp;</p></div><p>For more information about these events, contact Mayela Quintanilla at 775-283-7642 or email mquintanilla@carsoncity.gov.</p><p>&nbsp;_____________________________________________________________________________________________________________________________________________________________</p><div>&nbsp;Servicios Juveniles de Carson City organizará dos eventos,&nbsp;<u>Noche de Participación de Los Padres hablando de el uso de Tabaco</u>&nbsp;en asociación con el Departamento de Salud y Servicios Humanos.</div><div id="x_Signature"><p>La versión en inglés de la Noche de participación de padres de este mes será&nbsp;<b>el Miércoles 20 de Noviembre, de 5:30 pm - 6:30 pm, en Carson City Juvenile Services, ubicado en 740 S. Saliman Road.&nbsp;&nbsp;</b></p><p>La versión en español de la Noche de participación de padres de este mes será&nbsp;<b>el Jueves 21 de Noviembre, de 5:30 pm - 6:30 pm, en Carson City Juvenile Services, ubicado en 740 S. Saliman Road.&nbsp;&nbsp;</b></p><p>Para obtener más información sobre estos eventos, comuníquese con Mayela Quintanilla al 775-283-7642 o envíe un correo electrónico a&nbsp;<a title="mailto:mquintanilla@carsoncity.gov" data-linkindex="0" id="OWA7448481a-bc5d-bd40-55ab-7ba3e3e4ca51" href="mailto:&#109;&#113;&#117;&#105;&#110;&#116;&#97;&#110;&#105;&#108;&#108;&#97;&#64;&#99;&#97;&#114;&#115;&#111;&#110;&#99;&#105;&#116;&#121;&#46;&#103;&#111;&#118;">mquintanilla@carsoncity.gov</a>.</p><p>Este evento es gratuito y abierto a toda la comunidad!</p><p>&nbsp; ¡Gracias!</p></div>
LOCATION:Carson City Juvenile Services: Probation Office\, 740 S. Saliman Road Carson City\, Nevada 89701
CLASS:PUBLIC
END:VEVENT
END:VCALENDAR
