BEGIN:VCALENDAR
VERSION:2.0
PRODID:Carson City Calendar Creator
METHOD:PUBLISH
BEGIN:VEVENT
DTSTAMP:20241118T081131
DTSTART:20241120T173000
DTEND:20241120T235900
SUMMARY:Airport Authority Meeting
DESCRIPTION:<a href="https://flycarsoncity.com/wp-content/uploads/2024/11/2024-11-20-Agenda-1.pdf">2024-11-20-Agenda-1.pdf</a>
X-ALT-DESC;FMTTYPE=text/html:<a href="https://flycarsoncity.com/wp-content/uploads/2024/11/2024-11-20-Agenda-1.pdf">2024-11-20-Agenda-1.pdf</a>
LOCATION:Carson City Community Center\, 851 E William St Carson City\, Nevada 89701
CLASS:PUBLIC
END:VEVENT
END:VCALENDAR
