BEGIN:VCALENDAR
VERSION:2.0
PRODID:Carson City Calendar Creator
METHOD:PUBLISH
BEGIN:VEVENT
DTSTAMP:20241119T141155
DTSTART:20251208T160000
DTEND:20251208T235900
SUMMARY:Carson City Culture & Tourism Authority
DESCRIPTION:<p><a href="https://visitcarsoncity.com/travel-industry/meetings/" target="_blank">Click here to view agendas &amp; meeting information.</a></p><p><a href="https://www.carsoncity.gov/government/city-meetings">Click here to view meeting webcast.</a></p><p><div><div><p>For more information call (775) 687-7410.</p><div></div></div><div></div><div></div><div></div></div></p><p>&nbsp;</p>
X-ALT-DESC;FMTTYPE=text/html:<p><a href="https://visitcarsoncity.com/travel-industry/meetings/" target="_blank">Click here to view agendas &amp; meeting information.</a></p><p><a href="https://www.carsoncity.gov/government/city-meetings">Click here to view meeting webcast.</a></p><p><div><div><p>For more information call (775) 687-7410.</p><div></div></div><div></div><div></div><div></div></div></p><p>&nbsp;</p>
LOCATION:Community Center\, Robert "Bob" Crowell Board Room\, 851 East William Street Carson City\, Nevada 89701
CLASS:PUBLIC
END:VEVENT
END:VCALENDAR
