BEGIN:VCALENDAR
VERSION:2.0
PRODID:Carson City Calendar Creator
METHOD:PUBLISH
BEGIN:VEVENT
DTSTAMP:20250303T165612
DTSTART:20250310T173000
DTEND:20250310T193000
SUMMARY:Cultural Commission
DESCRIPTION:<p><a href="https://www.carsoncity.gov/government/city-meetings">Webcast and Agenda with Supporting Materials</a></p><p><a href="https://www.carsoncity.gov/home/showpublisheddocument/90798/638766172599430000" target="_blank">Agenda: 03/10/2025 Cultural Commission Agenda</a></p>
X-ALT-DESC;FMTTYPE=text/html:<p><a href="https://www.carsoncity.gov/government/city-meetings">Webcast and Agenda with Supporting Materials</a></p><p><a href="https://www.carsoncity.gov/home/showpublisheddocument/90798/638766172599430000" target="_blank">Agenda: 03/10/2025 Cultural Commission Agenda</a></p>
LOCATION:Community Center\, Robert "Bob" Crowell Board Room\, 851 East William Street Carson City\, Nevada 89701
CLASS:PUBLIC
END:VEVENT
END:VCALENDAR
