BEGIN:VCALENDAR
VERSION:2.0
PRODID:Carson City Calendar Creator
METHOD:PUBLISH
BEGIN:VEVENT
DTSTAMP:20241217T155508
DTSTART:20250116T180000
DTEND:20250116T190000
SUMMARY:Tobacco Parent Engagement Night at Carson Middle School (Spanish)
DESCRIPTION:<p>On January 16th, 2025, from 6:00 pm-7:00 pm, a&nbsp;<b>Tobacco Parent Engagement&nbsp;Night</b>&nbsp;will be at Carson Middle School Library, located at 1140 W. King Street Carson City, NV 89703 .&nbsp;This event will be in Spanish.&nbsp;</p><p>El 16 de Enero de 2025, de 6:00 p. m. a 7:00 p. m., Habra una Noche de participación hablando de los peligros y riesgos de fumar y vapear, se tomara lugar en la biblioteca de la escuela secundaria Carson, ubicada en 1140 W. King Street Carson City, NV 89703.&nbsp;Este evento será en español.</p>
X-ALT-DESC;FMTTYPE=text/html:<p>On January 16th, 2025, from 6:00 pm-7:00 pm, a&nbsp;<b>Tobacco Parent Engagement&nbsp;Night</b>&nbsp;will be at Carson Middle School Library, located at 1140 W. King Street Carson City, NV 89703 .&nbsp;This event will be in Spanish.&nbsp;</p><p>El 16 de Enero de 2025, de 6:00 p. m. a 7:00 p. m., Habra una Noche de participación hablando de los peligros y riesgos de fumar y vapear, se tomara lugar en la biblioteca de la escuela secundaria Carson, ubicada en 1140 W. King Street Carson City, NV 89703.&nbsp;Este evento será en español.</p>
LOCATION:Carson Middle School\, 1140 W. King Street Carson City\, Nevada 89701
CLASS:PUBLIC
END:VEVENT
END:VCALENDAR
