BEGIN:VCALENDAR
VERSION:2.0
PRODID:Carson City Calendar Creator
METHOD:PUBLISH
BEGIN:VEVENT
DTSTAMP:20241217T155737
DTSTART:20250128T180000
DTEND:20250128T190000
SUMMARY:Parent Engagement Night
DESCRIPTION:<p>On January 28th, 2025 from 6:00 pm-7:00 pm, there will be a&nbsp;<b>Parent Engagement Night on Why Attendance Matters</b>, located at Carson City Juvenile Services at 740 S. Saliman Road Carson City, NV 89701.&nbsp;This event will be in English.</p><p>&nbsp;El 28 de Enero de 2025, de 6:00 p. m. a 7:00 p. m., habrá una Noche de participación de padres sobre por qué es importante la asistencia, ubicada en Carson City Juvenile Services en 740 S. Saliman Road Carson City, NV 89701.&nbsp;Este evento será en Inglés.</p>
X-ALT-DESC;FMTTYPE=text/html:<p>On January 28th, 2025 from 6:00 pm-7:00 pm, there will be a&nbsp;<b>Parent Engagement Night on Why Attendance Matters</b>, located at Carson City Juvenile Services at 740 S. Saliman Road Carson City, NV 89701.&nbsp;This event will be in English.</p><p>&nbsp;El 28 de Enero de 2025, de 6:00 p. m. a 7:00 p. m., habrá una Noche de participación de padres sobre por qué es importante la asistencia, ubicada en Carson City Juvenile Services en 740 S. Saliman Road Carson City, NV 89701.&nbsp;Este evento será en Inglés.</p>
LOCATION:Carson City Juvenile Services: Probation Office\, 740 S. Saliman Road Carson City\, Nevada 89701
CLASS:PUBLIC
END:VEVENT
END:VCALENDAR
