BEGIN:VCALENDAR
VERSION:2.0
PRODID:Carson City Calendar Creator
METHOD:PUBLISH
BEGIN:VEVENT
DTSTAMP:20250722T085831
DTSTART:20250819T173000
DTEND:20250819T220000
SUMMARY:Parks and Recreation Commission Meeting ***CANCELLED***
DESCRIPTION:
X-ALT-DESC;FMTTYPE=text/html:
LOCATION:Community Center\, Robert "Bob" Crowell Board Room\, 851 East William Street Carson City\, Nevada 89701
CLASS:PUBLIC
END:VEVENT
END:VCALENDAR
