BEGIN:VCALENDAR
VERSION:2.0
PRODID:Carson City Calendar Creator
METHOD:PUBLISH
BEGIN:VEVENT
DTSTAMP:20250103T155946
DTSTART:20250106T000000
DTEND:20250106T235900
SUMMARY:Reminder - Property Tax Due
DESCRIPTION:<p><strong>ON MONDAY, JANUARY 6, 2025 THE THIRD INSTALLMENT OF THE FISCAL YEAR 2024-2025 Real Property Taxes</strong> are due and payable in the office of the Carson City Treasurer, located inside City Hall, 201 N. Carson Street Suite #5.&nbsp; For your convenience, you can make a payment online at <a href="https://protect-us.mimecast.com/s/VOlSCgJV5LtlM08YtEpphc?domain=carsoncitynv.devnetwedge.com" target="_blank">www.carsonpayments.com</a> or <a href="https://protect-us.mimecast.com/s/VOlSCgJV5LtlM08YtEpphc?domain=carsoncitynv.devnetwedge.com/" target="_blank">www.carsoncity.gov</a>.</p><p><strong><i><u>If you already made a payment, please disregard this notice.</u></i></strong></p>
X-ALT-DESC;FMTTYPE=text/html:<p><strong>ON MONDAY, JANUARY 6, 2025 THE THIRD INSTALLMENT OF THE FISCAL YEAR 2024-2025 Real Property Taxes</strong> are due and payable in the office of the Carson City Treasurer, located inside City Hall, 201 N. Carson Street Suite #5.&nbsp; For your convenience, you can make a payment online at <a href="https://protect-us.mimecast.com/s/VOlSCgJV5LtlM08YtEpphc?domain=carsoncitynv.devnetwedge.com" target="_blank">www.carsonpayments.com</a> or <a href="https://protect-us.mimecast.com/s/VOlSCgJV5LtlM08YtEpphc?domain=carsoncitynv.devnetwedge.com/" target="_blank">www.carsoncity.gov</a>.</p><p><strong><i><u>If you already made a payment, please disregard this notice.</u></i></strong></p>
LOCATION:City Hall\, 201 N Carson St Ste 5 Carson City\, Nevada 89701
CLASS:PUBLIC
END:VEVENT
END:VCALENDAR
