BEGIN:VCALENDAR
VERSION:2.0
PRODID:Carson City Calendar Creator
METHOD:PUBLISH
BEGIN:VEVENT
DTSTAMP:20250113T104149
DTSTART:20250115T173000
DTEND:20250115T193000
SUMMARY:Airport Authority Meeting
DESCRIPTION:<a href="https://flycarsoncity.com/wp-content/uploads/2025/01/2025-01-Agenda-Final.pdf">2025-01-Agenda-Final.pdf</a>
X-ALT-DESC;FMTTYPE=text/html:<a href="https://flycarsoncity.com/wp-content/uploads/2025/01/2025-01-Agenda-Final.pdf">2025-01-Agenda-Final.pdf</a>
LOCATION:Carson City Community Center\, 851 E William St Carson City\, Nevada 89701
CLASS:PUBLIC
END:VEVENT
END:VCALENDAR
