BEGIN:VCALENDAR
VERSION:2.0
PRODID:Carson City Calendar Creator
METHOD:PUBLISH
BEGIN:VEVENT
DTSTAMP:20250121T110051
DTSTART:20250121T173000
DTEND:20250121T200000
SUMMARY:Advisory Board to Manage Wildlife
DESCRIPTION:<a href="https://granicus_production_attachments.s3.amazonaws.com/carsoncity/615bbdc6a927a620566dbebad36943360.pdf">Agenda</a>
X-ALT-DESC;FMTTYPE=text/html:<a href="https://granicus_production_attachments.s3.amazonaws.com/carsoncity/615bbdc6a927a620566dbebad36943360.pdf">Agenda</a>
LOCATION:
CLASS:PUBLIC
END:VEVENT
END:VCALENDAR
