BEGIN:VCALENDAR
VERSION:2.0
PRODID:Carson City Calendar Creator
METHOD:PUBLISH
BEGIN:VEVENT
DTSTAMP:20250123T151332
DTSTART:20250129T170000
DTEND:20250129T180000
SUMMARY:Regular Planning Commission - CANCELED
DESCRIPTION:<p>The regularly scheduled Planning Commission meeting for this month has been canceled. </p><p>In place, there will be a Planning Commission Workshop at the Community Center in the 'Bonanza Room' starting at 3:00 PM.</p>
X-ALT-DESC;FMTTYPE=text/html:<p>The regularly scheduled Planning Commission meeting for this month has been canceled. </p><p>In place, there will be a Planning Commission Workshop at the Community Center in the 'Bonanza Room' starting at 3:00 PM.</p>
LOCATION:
CLASS:PUBLIC
END:VEVENT
END:VCALENDAR
