BEGIN:VCALENDAR
VERSION:2.0
PRODID:Carson City Calendar Creator
METHOD:PUBLISH
BEGIN:VEVENT
DTSTAMP:20250131T085810
DTSTART:20250225T180000
DTEND:20250225T200000
SUMMARY:Teen Dating Awareness Night
DESCRIPTION:<p>This event will focus on discussing the issues affecting our youth and provide information on recognizing teen dating violence.</p><p>&nbsp;This event is partnering with CCSO, Carson City School District, Advocates to End Domestic Violence, and Xquisite. These experts will share with the parents and community members the awareness around teen dating violence, and what the community can do to combat the issue.&nbsp;</p>
X-ALT-DESC;FMTTYPE=text/html:<p>This event will focus on discussing the issues affecting our youth and provide information on recognizing teen dating violence.</p><p>&nbsp;This event is partnering with CCSO, Carson City School District, Advocates to End Domestic Violence, and Xquisite. These experts will share with the parents and community members the awareness around teen dating violence, and what the community can do to combat the issue.&nbsp;</p>
LOCATION:Community Center Bonanza Room\, 851 East William Street Carson City\, Nevada 89701
CLASS:PUBLIC
END:VEVENT
END:VCALENDAR
