BEGIN:VCALENDAR
VERSION:2.0
PRODID:Carson City Calendar Creator
METHOD:PUBLISH
BEGIN:VEVENT
DTSTAMP:20250218T182510
DTSTART:20250219T173000
DTEND:20250219T193000
SUMMARY:Airport Authority Meeting
DESCRIPTION:<a href="https://flycarsoncity.com/wp-content/uploads/2025/02/2025-02-12-Agenda-Final.pdf">2025-02-12-Agenda-Final.pdf</a>
X-ALT-DESC;FMTTYPE=text/html:<a href="https://flycarsoncity.com/wp-content/uploads/2025/02/2025-02-12-Agenda-Final.pdf">2025-02-12-Agenda-Final.pdf</a>
LOCATION:Community Center\, Robert "Bob" Crowell Board Room\, 851 East William Street Carson City\, Nevada 89701
CLASS:PUBLIC
END:VEVENT
END:VCALENDAR
