BEGIN:VCALENDAR
VERSION:2.0
PRODID:Carson City Calendar Creator
METHOD:PUBLISH
BEGIN:VEVENT
DTSTAMP:20250226T130549
DTSTART:20250303T080000
DTEND:20250303T170000
SUMMARY:Reminder - Property Tax Due
DESCRIPTION:<p><strong>ON MONDAY, MARCH 3, 2025 THE FOURTH INSTALLMENT OF THE FISCAL YEAR 2024-2025 Real Property Taxes</strong> are due and payable in the office of the Carson City Treasurer, located inside City Hall, 201 N. Carson Street Suite #5.&nbsp; For your convenience, you can make a payment online at <a href="https://url.us.m.mimecastprotect.com/s/SPHlCNknx9HVP6YDSrtVSyCMF4?domain=rkfg092c.r.us-east-2.awstrack.me" target="_blank">www.carsonpayments.com</a> or <a href="https://url.us.m.mimecastprotect.com/s/qxG_COYo7yT5ZODzT5uDSGZjJY?domain=rkfg092c.r.us-east-2.awstrack.me" target="_blank">www.carsoncity.gov</a>.</p><p><strong><i><u>If you already made a payment, please disregard this notice.</u></i></strong></p>
X-ALT-DESC;FMTTYPE=text/html:<p><strong>ON MONDAY, MARCH 3, 2025 THE FOURTH INSTALLMENT OF THE FISCAL YEAR 2024-2025 Real Property Taxes</strong> are due and payable in the office of the Carson City Treasurer, located inside City Hall, 201 N. Carson Street Suite #5.&nbsp; For your convenience, you can make a payment online at <a href="https://url.us.m.mimecastprotect.com/s/SPHlCNknx9HVP6YDSrtVSyCMF4?domain=rkfg092c.r.us-east-2.awstrack.me" target="_blank">www.carsonpayments.com</a> or <a href="https://url.us.m.mimecastprotect.com/s/qxG_COYo7yT5ZODzT5uDSGZjJY?domain=rkfg092c.r.us-east-2.awstrack.me" target="_blank">www.carsoncity.gov</a>.</p><p><strong><i><u>If you already made a payment, please disregard this notice.</u></i></strong></p>
LOCATION:City Hall\, 201 N Carson St #5 Carson City\, Nevada 89701
CLASS:PUBLIC
END:VEVENT
END:VCALENDAR
