BEGIN:VCALENDAR
VERSION:2.0
PRODID:Carson City Calendar Creator
METHOD:PUBLISH
BEGIN:VEVENT
DTSTAMP:20250227T080927
DTSTART:20250304T173000
DTEND:20250304T200000
SUMMARY:Advisory Board to Manage Wildlife
DESCRIPTION:
X-ALT-DESC;FMTTYPE=text/html:
LOCATION:Carson City Community Center\, 851 E William St Carson City\, Nevada 89701
CLASS:PUBLIC
END:VEVENT
END:VCALENDAR
