BEGIN:VCALENDAR
VERSION:2.0
PRODID:Carson City Calendar Creator
METHOD:PUBLISH
BEGIN:VEVENT
DTSTAMP:20250306T155642
DTSTART:20250412T090000
DTEND:20250412T110000
SUMMARY:Carson Ridge Disc Golf Workday
DESCRIPTION:<p direction-ltr="" align-center="" para-style-body"="">Join Carson City Parks, Recreation &amp; Open Space staff at the Carson Ridge Disc Golf Park for a volunteer workday on Saturday April 12th from 9:00am-11:00am! Volunteer activities will include trash clean up and weeding. Tools, gloves, and trash bags will be provided. No registration required. Long sleeve shirt, long pants, and close toed shoes recommended. Please contact volunteer@carsoncity.gov if you have any questions!</p>
X-ALT-DESC;FMTTYPE=text/html:<p direction-ltr="" align-center="" para-style-body"="">Join Carson City Parks, Recreation &amp; Open Space staff at the Carson Ridge Disc Golf Park for a volunteer workday on Saturday April 12th from 9:00am-11:00am! Volunteer activities will include trash clean up and weeding. Tools, gloves, and trash bags will be provided. No registration required. Long sleeve shirt, long pants, and close toed shoes recommended. Please contact volunteer@carsoncity.gov if you have any questions!</p>
LOCATION:
CLASS:PUBLIC
END:VEVENT
END:VCALENDAR
