BEGIN:VCALENDAR
VERSION:2.0
PRODID:Carson City Calendar Creator
METHOD:PUBLISH
BEGIN:VEVENT
DTSTAMP:20250314T131933
DTSTART:20250325T180000
DTEND:20250325T190000
SUMMARY:Parent Engagement Night (Spanish)
DESCRIPTION:<div data-olk-copy-source="MessageBody">Hello all,</div><div>For this month's event, Carson City Juvenile Services will be hosting The Power of Parents Night, presented by MADD (Mothers Against Drunk Drivers) both in English and Spanish. The Power of Parents Program empowers parents of middle and high school students to have ongoing, intentional conversations about the dangers and consequences of underage drinking and marijuana use.</div><div>The Spanish night will be on&nbsp;<b>March 25th, 2025, from 6:00 pm-7:00 pm at La Tapatia, 200 E. Winnie Lane, Carson City, NV 89706.&nbsp;</b></div><div>The English night will be on&nbsp;<b>March 27th, 2025, from 6:00 pm-7:00 pm at The Ormsby Room 911 E. Musser Street, Carson City, NV 89701.</b></div><div>Reach out if you need more information about these events and spread the word!</div><div></div><div>Thank you!</div><div>__________________________________________________________________________________________________________________________________________________</div><div>Hola a todos,</div><div></div><div>Para el evento de este mes, Servicios Juveniles de Carson City presentará la Noche del Poder de los Padres, presentada por MADD (Madres Contra Conductores Ebrios), tanto en inglés como en español. El Programa del Poder de los Padres empodera a los padres de estudiantes de secundaria y preparatoria para que tengan conversaciones continuas e intencionales sobre los peligros y las consecuencias del consumo de alcohol y marihuana en menores de dead.</div><div></div><div>La noche en español será&nbsp;<b>el 25 de Marzo de 2025, de 6:00 pm- 7:00 pm, en La Tapatia, 200 E. Winnie Lane, Carson City, NV 89706.</b></div><div></div><div>La noche en inglés será&nbsp;<b>el 27 de Marzo de 2025, de&nbsp;</b><b>6:00 pm- 7:00 pm</b><b>, en The Ormsby Room, 911 E. Musser Street, Carson City, NV 89701.</b></div><div></div><div>¡Contáctanos si necesitas más información sobre estos eventos y corre la voz!</div><div></div><div>¡Gracias!</div>
X-ALT-DESC;FMTTYPE=text/html:<div data-olk-copy-source="MessageBody">Hello all,</div><div>For this month's event, Carson City Juvenile Services will be hosting The Power of Parents Night, presented by MADD (Mothers Against Drunk Drivers) both in English and Spanish. The Power of Parents Program empowers parents of middle and high school students to have ongoing, intentional conversations about the dangers and consequences of underage drinking and marijuana use.</div><div>The Spanish night will be on&nbsp;<b>March 25th, 2025, from 6:00 pm-7:00 pm at La Tapatia, 200 E. Winnie Lane, Carson City, NV 89706.&nbsp;</b></div><div>The English night will be on&nbsp;<b>March 27th, 2025, from 6:00 pm-7:00 pm at The Ormsby Room 911 E. Musser Street, Carson City, NV 89701.</b></div><div>Reach out if you need more information about these events and spread the word!</div><div></div><div>Thank you!</div><div>__________________________________________________________________________________________________________________________________________________</div><div>Hola a todos,</div><div></div><div>Para el evento de este mes, Servicios Juveniles de Carson City presentará la Noche del Poder de los Padres, presentada por MADD (Madres Contra Conductores Ebrios), tanto en inglés como en español. El Programa del Poder de los Padres empodera a los padres de estudiantes de secundaria y preparatoria para que tengan conversaciones continuas e intencionales sobre los peligros y las consecuencias del consumo de alcohol y marihuana en menores de dead.</div><div></div><div>La noche en español será&nbsp;<b>el 25 de Marzo de 2025, de 6:00 pm- 7:00 pm, en La Tapatia, 200 E. Winnie Lane, Carson City, NV 89706.</b></div><div></div><div>La noche en inglés será&nbsp;<b>el 27 de Marzo de 2025, de&nbsp;</b><b>6:00 pm- 7:00 pm</b><b>, en The Ormsby Room, 911 E. Musser Street, Carson City, NV 89701.</b></div><div></div><div>¡Contáctanos si necesitas más información sobre estos eventos y corre la voz!</div><div></div><div>¡Gracias!</div>
LOCATION:la Tapatia\, 200 E. Winnie Lane Carson City\, Nevada 89706
CLASS:PUBLIC
END:VEVENT
END:VCALENDAR
