BEGIN:VCALENDAR
VERSION:2.0
PRODID:Carson City Calendar Creator
METHOD:PUBLISH
BEGIN:VEVENT
DTSTAMP:20250430T092042
DTSTART:20250430T170000
DTEND:20250430T235900
SUMMARY:Planning Commission
DESCRIPTION:<a href="https://www.carsoncity.gov/government/city-meetings">4.30.2025 Agenda and Supplemental Material&nbsp;</a>
X-ALT-DESC;FMTTYPE=text/html:<a href="https://www.carsoncity.gov/government/city-meetings">4.30.2025 Agenda and Supplemental Material&nbsp;</a>
LOCATION:Community Center\, Bob Boldrick Theater\, 851 East William Street Carson City\, Nevada 89701-3123
CLASS:PUBLIC
END:VEVENT
END:VCALENDAR
