BEGIN:VCALENDAR
VERSION:2.0
PRODID:Carson City Calendar Creator
METHOD:PUBLISH
BEGIN:VEVENT
DTSTAMP:20250317T120046
DTSTART:20250319T173000
DTEND:20250319T193000
SUMMARY:Airport Authority Meeting
DESCRIPTION:<a href="http://https://flycarsoncity.com/wp-content/uploads/2025/03/2025-03-19-Agenda-Final.pdf" target="_blank">Agenda</a><br>
X-ALT-DESC;FMTTYPE=text/html:<a href="http://https://flycarsoncity.com/wp-content/uploads/2025/03/2025-03-19-Agenda-Final.pdf" target="_blank">Agenda</a><br>
LOCATION:Community Center\, Robert "Bob" Crowell Board Room\, 851 East William Street Carson City\, Nevada 89701
CLASS:PUBLIC
END:VEVENT
END:VCALENDAR
