BEGIN:VCALENDAR
VERSION:2.0
PRODID:Carson City Calendar Creator
METHOD:PUBLISH
BEGIN:VEVENT
DTSTAMP:20250623T161015
DTSTART:20250625T170000
DTEND:20250625T235900
SUMMARY:Planning Commission
DESCRIPTION:<a href="https://www.carsoncity.gov/government/city-meetings">06.25.2025 Agenda with Supporting Material</a>
X-ALT-DESC;FMTTYPE=text/html:<a href="https://www.carsoncity.gov/government/city-meetings">06.25.2025 Agenda with Supporting Material</a>
LOCATION:Community Center\, Robert "Bob" Crowell Board Room\, 851 East William Street Carson City\, Nevada 89701
CLASS:PUBLIC
END:VEVENT
END:VCALENDAR
