BEGIN:VCALENDAR
VERSION:2.0
PRODID:Carson City Calendar Creator
METHOD:PUBLISH
BEGIN:VEVENT
DTSTAMP:20250401T085718
DTSTART:20250401T100000
DTEND:20250401T130000
SUMMARY:CANCELLED - Utility Finance Oversight Committee
DESCRIPTION:<a href="https://www.carsoncity.gov/home/showpublisheddocument/90884/638790943260200000" target="_blank">&nbsp;CANCELLATION - UFOC Meeting 04/01/2025</a>
X-ALT-DESC;FMTTYPE=text/html:<a href="https://www.carsoncity.gov/home/showpublisheddocument/90884/638790943260200000" target="_blank">&nbsp;CANCELLATION - UFOC Meeting 04/01/2025</a>
LOCATION:Carson City Community Center\, 851 E William St Carson City\, Nevada 89701
CLASS:PUBLIC
END:VEVENT
END:VCALENDAR
