BEGIN:VCALENDAR
VERSION:2.0
PRODID:Carson City Calendar Creator
METHOD:PUBLISH
BEGIN:VEVENT
DTSTAMP:20250401T154055
DTSTART:20250402T173000
DTEND:20250402T193000
SUMMARY:Advisory Board to Manage Wildlife Meeting
DESCRIPTION:<a href="https://granicus_production_attachments.s3.amazonaws.com/carsoncity/0c5497d128596fa6ad1cf7ddd5d3ce9e0.pdf" target="_blank">Agenda</a><br>
X-ALT-DESC;FMTTYPE=text/html:<a href="https://granicus_production_attachments.s3.amazonaws.com/carsoncity/0c5497d128596fa6ad1cf7ddd5d3ce9e0.pdf" target="_blank">Agenda</a><br>
LOCATION:Community Center\, Robert "Bob" Crowell Board Room\, 851 East William Street Carson City\, Nevada 89701
CLASS:PUBLIC
END:VEVENT
END:VCALENDAR
