BEGIN:VCALENDAR
VERSION:2.0
PRODID:Carson City Calendar Creator
METHOD:PUBLISH
BEGIN:VEVENT
DTSTAMP:20250403T115702
DTSTART:20250430T180000
DTEND:20250430T193000
SUMMARY:Parent Engagement Night (English)
DESCRIPTION:<div data-olk-copy-source="MessageBody">Hello all,</div><div></div><div>Here are the&nbsp;upcoming Parent Engagement Nights for April:</div><div></div><div>This month, we will talk about anxiety among the youth and help parents and community members navigate those conversations and provide resources.</div><div></div><div>The Spanish Night Anxiety event will be on&nbsp;<b>Tuesday, April 29th, from 6:00 pm-7:30 pm at La Tapatia located at 200 E Winnie Ln, Carson City, NV 89706.</b></div><div></div><div>The English Night Anxiety event will be on&nbsp;<b>Wednesday, April 30th, from 6:00 pm-7:30 pm at Carson City Juvenile Probation Office, located on 740 S. Saliman Road 89701.&nbsp;</b></div><div></div><div>__________________________________________________________________________________________________________________________________</div><div></div><div>Hola a todos,</div><div></div><div>Aquí les presentamos las próximas Noches de Participación de Padres de abril:</div><div></div><div>Este mes, hablaremos sobre la ansiedad en los jóvenes, ayudaremos a los padres y miembros de la comunidad a abordar estas conversaciones y les brindaremos recursos.</div><div></div><div>La Noche de Ansiedad en Español se llevará a cabo&nbsp;<b>el Martes 29 de Abril, de 6:00 pm- 7:30 pm, en La Tapatia, ubicada en 200 E Winnie Ln, Carson City, NV 89706.</b></div><div></div><div>La Noche de Ansiedad en Inglés se llevará a cabo&nbsp;<b>el Miércoles 30 de Abril, de 6:00 pm- 7:30 pm, en la Carson City Juvenile Services, ubicada en 740 S. Saliman Road, 89701.</b></div>
X-ALT-DESC;FMTTYPE=text/html:<div data-olk-copy-source="MessageBody">Hello all,</div><div></div><div>Here are the&nbsp;upcoming Parent Engagement Nights for April:</div><div></div><div>This month, we will talk about anxiety among the youth and help parents and community members navigate those conversations and provide resources.</div><div></div><div>The Spanish Night Anxiety event will be on&nbsp;<b>Tuesday, April 29th, from 6:00 pm-7:30 pm at La Tapatia located at 200 E Winnie Ln, Carson City, NV 89706.</b></div><div></div><div>The English Night Anxiety event will be on&nbsp;<b>Wednesday, April 30th, from 6:00 pm-7:30 pm at Carson City Juvenile Probation Office, located on 740 S. Saliman Road 89701.&nbsp;</b></div><div></div><div>__________________________________________________________________________________________________________________________________</div><div></div><div>Hola a todos,</div><div></div><div>Aquí les presentamos las próximas Noches de Participación de Padres de abril:</div><div></div><div>Este mes, hablaremos sobre la ansiedad en los jóvenes, ayudaremos a los padres y miembros de la comunidad a abordar estas conversaciones y les brindaremos recursos.</div><div></div><div>La Noche de Ansiedad en Español se llevará a cabo&nbsp;<b>el Martes 29 de Abril, de 6:00 pm- 7:30 pm, en La Tapatia, ubicada en 200 E Winnie Ln, Carson City, NV 89706.</b></div><div></div><div>La Noche de Ansiedad en Inglés se llevará a cabo&nbsp;<b>el Miércoles 30 de Abril, de 6:00 pm- 7:30 pm, en la Carson City Juvenile Services, ubicada en 740 S. Saliman Road, 89701.</b></div>
LOCATION:Carson City Juvenile Services: Probation Office\, 740 S. Saliman Road Carson City\, Nevada 89701
CLASS:PUBLIC
END:VEVENT
END:VCALENDAR
