BEGIN:VCALENDAR
VERSION:2.0
PRODID:Carson City Calendar Creator
METHOD:PUBLISH
BEGIN:VEVENT
DTSTAMP:20250414T143840
DTSTART:20250416T173000
DTEND:20250416T193000
SUMMARY:Airport Authority Meeting
DESCRIPTION:<a href="https://flycarsoncity.com/wp-content/uploads/2025/04/2025-04-16-Agenda-Final.pdf" target="_blank">Agenda</a>
X-ALT-DESC;FMTTYPE=text/html:<a href="https://flycarsoncity.com/wp-content/uploads/2025/04/2025-04-16-Agenda-Final.pdf" target="_blank">Agenda</a>
LOCATION:Community Center\, Robert "Bob" Crowell Board Room\, 851 East William Street Carson City\, Nevada 89701
CLASS:PUBLIC
END:VEVENT
END:VCALENDAR
