BEGIN:VCALENDAR
VERSION:2.0
PRODID:Carson City Calendar Creator
METHOD:PUBLISH
BEGIN:VEVENT
DTSTAMP:20250423T130716
DTSTART:20250430T163000
DTEND:20250430T180000
SUMMARY:US 50 Phase 2 Public Open House
DESCRIPTION:<div></div><br clear="all"><p align="center"><b>Carson City Invites the Community to Participate in US 50 Phase 2 Public Open House</b></p><p><b>&nbsp;</b></p><p><b>Carson City, NV</b> – Carson City and the Carson Area Metropolitan Planning Organization (CAMPO) invite the community to attend a public open house for the US 50 East Carson Complete Street Corridor Study. The corridor study limits are along US 50 between the I-580 interchange in Carson City and SR 341 in Mound House. &nbsp;&nbsp;</p><p>Wednesday, April 30, 2025 from 4:30 p.m. – 6:00 p.m. at the Carson City Community Center, Bonanza Room, located at 851 E. William Street in Carson City.</p><p align="center"><span style="text-align: left;">The purpose of the corridor study is to better understand transportation needs and concerns along US 50 including those related to safety, traffic congestion, business access, and pedestrian and bicycle accommodations. The public is invited to attend this open house to learn about and to provide feedback on draft concepts and recommendations proposed as part of the corridor study. A brief presentation will be held at 5:15 pm to provide a short summary on the status and next steps related to the project. If you can't make the presentation, all materials will be available at the meeting.</span></p><p>Carson City and CAMPO value your feedback about this important corridor in our community and encourages your attendance.&nbsp;&nbsp;</p><p>&nbsp;For additional information on US 50 East Carson Phase 2 Study, contact Kelly Norman at 775-283-7525, email carsonareampo@carson.gov, or visit CarsonAreaMPO.com.</p><p><b>&nbsp;</b></p><p>&nbsp;</p><p>-END-</p>
X-ALT-DESC;FMTTYPE=text/html:<div></div><br clear="all"><p align="center"><b>Carson City Invites the Community to Participate in US 50 Phase 2 Public Open House</b></p><p><b>&nbsp;</b></p><p><b>Carson City, NV</b> – Carson City and the Carson Area Metropolitan Planning Organization (CAMPO) invite the community to attend a public open house for the US 50 East Carson Complete Street Corridor Study. The corridor study limits are along US 50 between the I-580 interchange in Carson City and SR 341 in Mound House. &nbsp;&nbsp;</p><p>Wednesday, April 30, 2025 from 4:30 p.m. – 6:00 p.m. at the Carson City Community Center, Bonanza Room, located at 851 E. William Street in Carson City.</p><p align="center"><span style="text-align: left;">The purpose of the corridor study is to better understand transportation needs and concerns along US 50 including those related to safety, traffic congestion, business access, and pedestrian and bicycle accommodations. The public is invited to attend this open house to learn about and to provide feedback on draft concepts and recommendations proposed as part of the corridor study. A brief presentation will be held at 5:15 pm to provide a short summary on the status and next steps related to the project. If you can't make the presentation, all materials will be available at the meeting.</span></p><p>Carson City and CAMPO value your feedback about this important corridor in our community and encourages your attendance.&nbsp;&nbsp;</p><p>&nbsp;For additional information on US 50 East Carson Phase 2 Study, contact Kelly Norman at 775-283-7525, email carsonareampo@carson.gov, or visit CarsonAreaMPO.com.</p><p><b>&nbsp;</b></p><p>&nbsp;</p><p>-END-</p>
LOCATION:Community Center Bonanza Room\, 851 East William Street Carson City\, Nevada 89701
CLASS:PUBLIC
END:VEVENT
END:VCALENDAR
