BEGIN:VCALENDAR
VERSION:2.0
PRODID:Carson City Calendar Creator
METHOD:PUBLISH
BEGIN:VEVENT
DTSTAMP:20250513T161926
DTSTART:20250529T180000
DTEND:20250529T193000
SUMMARY:Social Media Awareness Night (Spanish)
DESCRIPTION:<p>During this event, Carson City Juvenile Services will provide conversations and resources on social media and bring awareness of the dangers being imposed on our youth. This class will be taught in Spanish, and anyone can attend! For more information/RSVP for this event, contact Mayela Quintanilla at 775-283-7642 or email at&nbsp;mquintanilla@carsoncity.gov.</p><p>___________________________________________________________________________________________________________________________________________________________________________________________________________________________________________________________________</p><p>Durante este evento, los Servicios Juveniles de Carson City ofrecerán conversaciones y recursos en redes sociales para concientizar sobre los peligros que enfrentan nuestros jóvenes. Esta clase se impartirá en español y todos pueden asistir. Para más información o confirmar su asistencia, comuníquese con Mayela Quintanilla al 775-283-7642 o por correo electrónico a mquintanilla@carsoncity.gov.</p>
X-ALT-DESC;FMTTYPE=text/html:<p>During this event, Carson City Juvenile Services will provide conversations and resources on social media and bring awareness of the dangers being imposed on our youth. This class will be taught in Spanish, and anyone can attend! For more information/RSVP for this event, contact Mayela Quintanilla at 775-283-7642 or email at&nbsp;mquintanilla@carsoncity.gov.</p><p>___________________________________________________________________________________________________________________________________________________________________________________________________________________________________________________________________</p><p>Durante este evento, los Servicios Juveniles de Carson City ofrecerán conversaciones y recursos en redes sociales para concientizar sobre los peligros que enfrentan nuestros jóvenes. Esta clase se impartirá en español y todos pueden asistir. Para más información o confirmar su asistencia, comuníquese con Mayela Quintanilla al 775-283-7642 o por correo electrónico a mquintanilla@carsoncity.gov.</p>
LOCATION:Carson City Juvenile Services: Probation Office\, 740 S. Saliman Road Carson City\, Nevada 89701
CLASS:PUBLIC
END:VEVENT
END:VCALENDAR
