BEGIN:VCALENDAR
VERSION:2.0
PRODID:Carson City Calendar Creator
METHOD:PUBLISH
BEGIN:VEVENT
DTSTAMP:20250618T082656
DTSTART:20250813T133000
DTEND:20250813T143000
SUMMARY:Other Post Employment Benefits Trust Fund Board of Trustees
DESCRIPTION:
X-ALT-DESC;FMTTYPE=text/html:
LOCATION:Community Center\, Robert "Bob" Crowell Board Room\, 851 East William Street Carson City\, Nevada 89701
CLASS:PUBLIC
END:VEVENT
END:VCALENDAR
