BEGIN:VCALENDAR
VERSION:2.0
PRODID:Carson City Calendar Creator
METHOD:PUBLISH
BEGIN:VEVENT
DTSTAMP:20250630T084100
DTSTART:20250730T180000
DTEND:20250730T193000
SUMMARY:Human Trafficking Community Engagement Night
DESCRIPTION:<div x14z9mp="" xat24cr="" x1lziwak="" x1vvkbs="" x126k92a"=""><div dir="auto">Human Trafficking Awareness Night!</div></div><div xat24cr="" x1lziwak="" x1vvkbs="" xtlvy1s="" x126k92a"=""><div dir="auto"><a tabindex="-1" xdj266r="" x14z9mp="" xat24cr="" x1lziwak="" xexx8yu="" xyri2b="" x18d9i69="" x1c1uobl="" x1hl2dhg="" x16tdsg8="" x1vvkbs"=""></a>JULY 30th 6PM-7:30PM</div><div dir="auto">Located at the Carson City Sheriff’s office</div><div dir="auto">ORMSBY ROOM</div><div dir="auto">911 MUSSER E. ST, CARSON CITY NV</div></div><div xat24cr="" x1lziwak="" x1vvkbs="" xtlvy1s="" x126k92a"=""><div dir="auto">Email Mayela Quintanilla for more information mquintanilla@carsoncity.gov or contact at 775-283-7642</div></div>
X-ALT-DESC;FMTTYPE=text/html:<div x14z9mp="" xat24cr="" x1lziwak="" x1vvkbs="" x126k92a"=""><div dir="auto">Human Trafficking Awareness Night!</div></div><div xat24cr="" x1lziwak="" x1vvkbs="" xtlvy1s="" x126k92a"=""><div dir="auto"><a tabindex="-1" xdj266r="" x14z9mp="" xat24cr="" x1lziwak="" xexx8yu="" xyri2b="" x18d9i69="" x1c1uobl="" x1hl2dhg="" x16tdsg8="" x1vvkbs"=""></a>JULY 30th 6PM-7:30PM</div><div dir="auto">Located at the Carson City Sheriff’s office</div><div dir="auto">ORMSBY ROOM</div><div dir="auto">911 MUSSER E. ST, CARSON CITY NV</div></div><div xat24cr="" x1lziwak="" x1vvkbs="" xtlvy1s="" x126k92a"=""><div dir="auto">Email Mayela Quintanilla for more information mquintanilla@carsoncity.gov or contact at 775-283-7642</div></div>
LOCATION:Carson City Sheriff's Office Ormsby Room\, 911 East Musser Street Carson City\, Nevada 89701
CLASS:PUBLIC
END:VEVENT
END:VCALENDAR
