BEGIN:VCALENDAR
VERSION:2.0
PRODID:Carson City Calendar Creator
METHOD:PUBLISH
BEGIN:VEVENT
DTSTAMP:20250805T114509
DTSTART:20250805T133000
DTEND:20250805T153000
SUMMARY:Debt Management Commission
DESCRIPTION:https://www.carsoncity.gov/government/city-meetings
X-ALT-DESC;FMTTYPE=text/html:https://www.carsoncity.gov/government/city-meetings
LOCATION:Community Center\, Robert "Bob" Crowell Board Room\, 851 East William Street Carson City\, Nevada 89701
CLASS:PUBLIC
END:VEVENT
END:VCALENDAR
