BEGIN:VCALENDAR
VERSION:2.0
PRODID:Carson City Calendar Creator
METHOD:PUBLISH
BEGIN:VEVENT
DTSTAMP:20251104T094539
DTSTART:20251104T000000
DTEND:20251104T235900
SUMMARY:MEETING CANCELLED: Carson City Advisory Board to Manage Wildlife
DESCRIPTION:https://www.carsoncity.gov/government/city-meetings
X-ALT-DESC;FMTTYPE=text/html:https://www.carsoncity.gov/government/city-meetings
LOCATION:Community Center\, Robert "Bob" Crowell Board Room\, 851 East William Street Carson City\, Nevada 89701
CLASS:PUBLIC
END:VEVENT
END:VCALENDAR
