BEGIN:VCALENDAR
VERSION:2.0
PRODID:Carson City Calendar Creator
METHOD:PUBLISH
BEGIN:VEVENT
DTSTAMP:20251205T120604
DTSTART:20260608T160000
DTEND:20260608T235900
SUMMARY:Carson City Culture & Tourism Authority
DESCRIPTION:<p><a href="https://visitcarsoncity.com/travel-industry/meetings/" target="_blank">Click here to view agendas &amp; meeting information.</a></p><p>&nbsp;<a href="https://www.carsoncity.gov/government/city-meetings">Click here to view meeting webcast.</a></p>
X-ALT-DESC;FMTTYPE=text/html:<p><a href="https://visitcarsoncity.com/travel-industry/meetings/" target="_blank">Click here to view agendas &amp; meeting information.</a></p><p>&nbsp;<a href="https://www.carsoncity.gov/government/city-meetings">Click here to view meeting webcast.</a></p>
LOCATION:Community Center\, Robert "Bob" Crowell Board Room\, 851 East William Street Carson City\, Nevada 89701
CLASS:PUBLIC
END:VEVENT
END:VCALENDAR
