BEGIN:VCALENDAR
VERSION:2.0
PRODID:Carson City Calendar Creator
METHOD:PUBLISH
BEGIN:VEVENT
DTSTAMP:20251229T100447
DTSTART:20260615T173000
DTEND:20260615T213000
SUMMARY:Joint Meeting of the Parks and Recreation Commission and the Open Space Advisory Committee
DESCRIPTION:
X-ALT-DESC;FMTTYPE=text/html:
LOCATION:Community Center\, Robert "Bob" Crowell Board Room\, 851 East William Street Carson City\, Nevada 89701
CLASS:PUBLIC
END:VEVENT
END:VCALENDAR
