BEGIN:VCALENDAR
VERSION:2.0
PRODID:Carson City Calendar Creator
METHOD:PUBLISH
BEGIN:VEVENT
DTSTAMP:20260121T112722
DTSTART:20260121T173000
DTEND:20260121T193000
SUMMARY:Carson City Airport Authority- CANCELLED
DESCRIPTION:
X-ALT-DESC;FMTTYPE=text/html:
LOCATION:Community Center\, Bob Boldrick Theater\, 851 East William Street Carson City\, Nevada 89701-3123
CLASS:PUBLIC
END:VEVENT
END:VCALENDAR
