BEGIN:VCALENDAR
VERSION:2.0
PRODID:Carson City Calendar Creator
METHOD:PUBLISH
BEGIN:VEVENT
DTSTAMP:20260223T091140
DTSTART:20261201T133000
DTEND:20261201T143000
SUMMARY:Local Emergency Planning Committee
DESCRIPTION:
X-ALT-DESC;FMTTYPE=text/html:
LOCATION:Carson City EOC\, 3645 Butti Way Carson City\, Nevada 89701
CLASS:PUBLIC
END:VEVENT
END:VCALENDAR
