BEGIN:VCALENDAR
VERSION:2.0
PRODID:Carson City Calendar Creator
METHOD:PUBLISH
BEGIN:VEVENT
DTSTAMP:20260122T125058
DTSTART:20260220T083000
DTEND:20260220T235900
SUMMARY:Work Session of the Board of Supervisors
DESCRIPTION:<p>Location: Emergency Operations Center<br>3645 Butti Way<br>Carson City, NV 89701</p>
X-ALT-DESC;FMTTYPE=text/html:<p>Location: Emergency Operations Center<br>3645 Butti Way<br>Carson City, NV 89701</p>
LOCATION:
CLASS:PUBLIC
END:VEVENT
END:VCALENDAR
