BEGIN:VCALENDAR
VERSION:2.0
PRODID:Carson City Calendar Creator
METHOD:PUBLISH
BEGIN:VEVENT
DTSTAMP:20260217T122221
DTSTART:20260217T133000
DTEND:20260217T150000
SUMMARY:Debt Management Commission *****CANCELLED*****
DESCRIPTION:<a href="https://www.carsoncity.gov/home/showpublisheddocument/93313/639069277135600000" target="_blank" rel="noopener">Notice&nbsp;of Cancellation</a>
X-ALT-DESC;FMTTYPE=text/html:<a href="https://www.carsoncity.gov/home/showpublisheddocument/93313/639069277135600000" target="_blank" rel="noopener">Notice&nbsp;of Cancellation</a>
LOCATION:Community Center\, Robert "Bob" Crowell Board Room\, 851 East William Street Carson City\, Nevada 89701
CLASS:PUBLIC
END:VEVENT
END:VCALENDAR
