BEGIN:VCALENDAR
VERSION:2.0
PRODID:Carson City Calendar Creator
METHOD:PUBLISH
BEGIN:VEVENT
DTSTAMP:20260209T165734
DTSTART:20260210T090000
DTEND:20260210T235900
SUMMARY:Board of Equalization
DESCRIPTION:<a href="https://www.carsoncity.gov/home/showpublisheddocument/93259/639062530440130000" target="_blank" rel="noopener">NOTICE OF CANCELLATION&nbsp;</a>
X-ALT-DESC;FMTTYPE=text/html:<a href="https://www.carsoncity.gov/home/showpublisheddocument/93259/639062530440130000" target="_blank" rel="noopener">NOTICE OF CANCELLATION&nbsp;</a>
LOCATION:Community Center\, Robert "Bob" Crowell Board Room\, 851 East William Street Carson City\, Nevada 89701
CLASS:PUBLIC
END:VEVENT
END:VCALENDAR
