BEGIN:VCALENDAR
VERSION:2.0
PRODID:Carson City Calendar Creator
METHOD:PUBLISH
BEGIN:VEVENT
DTSTAMP:20260303T170548
DTSTART:20260304T080000
DTEND:20260304T160000
SUMMARY:Northern Zone Nevada Music Educators Association Band Festival
DESCRIPTION:Free
X-ALT-DESC;FMTTYPE=text/html:Free
LOCATION:Bob Boldrick Theater\, 851 E. William St. Carson City\, Nevada 89701
CLASS:PUBLIC
END:VEVENT
END:VCALENDAR
