BEGIN:VCALENDAR
VERSION:2.0
PRODID:Carson City Calendar Creator
METHOD:PUBLISH
BEGIN:VEVENT
DTSTAMP:20260303T115052
DTSTART:20260308T090000
DTEND:20260308T123000
SUMMARY:Spotlight Dance Competition
DESCRIPTION:Free
X-ALT-DESC;FMTTYPE=text/html:Free
LOCATION:Bob Boldrick Theater\, 851 E. William St. Carson City\, Nevada 89701
CLASS:PUBLIC
END:VEVENT
END:VCALENDAR
