BEGIN:VCALENDAR
VERSION:2.0
PRODID:Carson City Calendar Creator
METHOD:PUBLISH
BEGIN:VEVENT
DTSTAMP:20260303T170041
DTSTART:20260321T190000
DTEND:20260321T213000
SUMMARY:Carson High School Theatre Arts presents Grease
DESCRIPTION:<div dir="auto">Grease picks up the story of head “greaser” Danny and girl-next-door Sandy where their summer lovin’ left off: the start of a new school year. </div><div dir="auto">Grease has earned its place among the world’s most popular musicals, and is filled with favorite songs and dance numbers such as “Greased Lightnin’” “We Go Together,” “Hopelessly Devoted to You,” and “You’re the One That I Want.”</div><p dir="auto">&nbsp;</p><p dir="auto">Tickets:&nbsp;<a href="https://chstheatrearts.ludus.com/index.php" target="_blank" rel="noopener">https://chstheatrearts.ludus.com/index.php</a></p>
X-ALT-DESC;FMTTYPE=text/html:<div dir="auto">Grease picks up the story of head “greaser” Danny and girl-next-door Sandy where their summer lovin’ left off: the start of a new school year. </div><div dir="auto">Grease has earned its place among the world’s most popular musicals, and is filled with favorite songs and dance numbers such as “Greased Lightnin’” “We Go Together,” “Hopelessly Devoted to You,” and “You’re the One That I Want.”</div><p dir="auto">&nbsp;</p><p dir="auto">Tickets:&nbsp;<a href="https://chstheatrearts.ludus.com/index.php" target="_blank" rel="noopener">https://chstheatrearts.ludus.com/index.php</a></p>
LOCATION:Bob Boldrick Theater\, 851 E. William St. Carson City\, Nevada 89701
CLASS:PUBLIC
END:VEVENT
END:VCALENDAR
