BEGIN:VCALENDAR
VERSION:2.0
PRODID:Carson City Calendar Creator
METHOD:PUBLISH
BEGIN:VEVENT
DTSTAMP:20260303T171252
DTSTART:20260322T150000
DTEND:20260322T163000
SUMMARY:Capital City Community Band
DESCRIPTION:Free
X-ALT-DESC;FMTTYPE=text/html:Free
LOCATION:Bob Boldrick Theater\, 851 E. William St. Carson City\, Nevada 89701
CLASS:PUBLIC
END:VEVENT
END:VCALENDAR
